{
 "currentVersion": 11.5,
 "serviceDescription": "Scene7_WEL1",
 "serviceItemId": "d24e2ea238644fa18bc60fbadc09968a",
 "name": "Scene7_WEL1",
 "description": "",
 "extent": {
  "xmin": 210000.00768870433,
  "ymin": 1703750.0166851901,
  "xmax": 215000.00768870433,
  "ymax": 1710000.0166851901,
  "spatialReference": {
   "wkid": 2244,
   "latestWkid": 2965
  }
 },
 "initialExtent": {
  "xmin": 210000.00768870433,
  "ymin": 1703750.0166851901,
  "xmax": 215000.00768870433,
  "ymax": 1710000.0166851901,
  "spatialReference": {
   "wkid": 2244,
   "latestWkid": 2965
  }
 },
 "fullExtent": {
  "xmin": 210000.00768870433,
  "ymin": 1703750.0166851901,
  "xmax": 215000.00768870433,
  "ymax": 1710000.0166851901,
  "spatialReference": {
   "wkid": 2244,
   "latestWkid": 2965
  }
 },
 "sortableFields": "",
 "bandCount": 1,
 "pixelType": "F32",
 "minValues": [
  488.70782470703125
 ],
 "maxValues": [
  786.980712890625
 ],
 "meanValues": [
  709.4181615144054
 ],
 "stdvValues": [
  70.18580865341514
 ],
 "serviceProperties": "Center<\/MosaicMethod>First<\/MosaicOperator>true<\/SortAscending><\/LockImageID><\/TileOrderField>0<\/TileOrderBase>0.000000<\/AvgImageSpacingX>0.000000<\/AvgImageSpacingY>0.0<\/ViewPointX>0.0<\/ViewPointY>0.0<\/ViewPointDefShiftX>0.0<\/ViewPointDefShiftY>None<\/CompressionMethod>75<\/CompressionQuality>0.100000<\/CompressionTolerance>Bilinear<\/SamplingMethod><\/ImageServiceProperties><\/ImageServer>",
 "allowedFields": "",
 "hasMultidimensions": false,
 "pixelSizeX": 2,
 "pixelSizeY": 2,
 "meanPixelSize": 0.6096012192024385,
 "datasetFormat": "FGDBR",
 "uncompressedSize": 31250000,
 "blockWidth": 128,
 "blockHeight": 128,
 "compressionType": "LZ77",
 "bandNames": [
  "Band_1"
 ],
 "allowCopy": true,
 "allowAnalysis": true,
 "itemAccess": false,
 "inspectionCapabilities": "",
 "minPixelSize": 0.4889620163498847,
 "maxPixelSize": 256356.91762804834,
 "copyrightText": "",
 "serviceDataType": "esriImageServiceDataTypeGeneric",
 "serviceSourceType": "esriImageServiceSourceTypeDataset",
 "objectIdField": "",
 "fields": [],
 "capabilities": "Image,Metadata,Mensuration,TileMap",
 "defaultMosaicMethod": "Center",
 "allowedMosaicMethods": "",
 "sortField": "",
 "sortValue": null,
 "sortAscending": true,
 "mosaicOperator": "First",
 "defaultCompressionQuality": 75,
 "defaultResamplingMethod": "Bilinear",
 "maxImageHeight": 4100,
 "maxImageWidth": 15000,
 "singleFusedMapCache": true,
 "tileInfo": {
  "rows": 256,
  "cols": 256,
  "dpi": 96,
  "format": "LERC",
  "compressionQuality": 0,
  "lercError": 0.05,
  "origin": {
   "x": -3.248560212305686E7,
   "y": 2.0012320828010373E7
  },
  "spatialReference": {
   "wkid": 2244,
   "latestWkid": 2965,
   "vcsWkid": 105703,
   "latestVcsWkid": 6360
  },
  "lods": [
   {
    "level": 0,
    "resolution": 256356.91762804837,
    "scale": 2.953237597550312E8
   },
   {
    "level": 1,
    "resolution": 128178.45881402418,
    "scale": 1.476618798775156E8
   },
   {
    "level": 2,
    "resolution": 64089.22940701209,
    "scale": 7.38309399387578E7
   },
   {
    "level": 3,
    "resolution": 32044.614703506046,
    "scale": 3.69154699693789E7
   },
   {
    "level": 4,
    "resolution": 16022.307351753023,
    "scale": 1.845773498468945E7
   },
   {
    "level": 5,
    "resolution": 8011.153675876511,
    "scale": 9228867.492344726
   },
   {
    "level": 6,
    "resolution": 4005.5768379382557,
    "scale": 4614433.746172363
   },
   {
    "level": 7,
    "resolution": 2002.7884189691279,
    "scale": 2307216.8730861815
   },
   {
    "level": 8,
    "resolution": 1001.3942094845639,
    "scale": 1153608.4365430907
   },
   {
    "level": 9,
    "resolution": 500.69710474228197,
    "scale": 576804.2182715454
   },
   {
    "level": 10,
    "resolution": 250.34855237114098,
    "scale": 288402.1091357727
   },
   {
    "level": 11,
    "resolution": 125.17427618557049,
    "scale": 144201.05456788634
   },
   {
    "level": 12,
    "resolution": 62.587138092785246,
    "scale": 72100.52728394317
   },
   {
    "level": 13,
    "resolution": 31.293569046392623,
    "scale": 36050.263641971585
   },
   {
    "level": 14,
    "resolution": 15.646784523196311,
    "scale": 18025.131820985793
   },
   {
    "level": 15,
    "resolution": 7.823392261598156,
    "scale": 9012.565910492896
   },
   {
    "level": 16,
    "resolution": 3.911696130799078,
    "scale": 4506.282955246448
   },
   {
    "level": 17,
    "resolution": 1.955848065399539,
    "scale": 2253.141477623224
   },
   {
    "level": 18,
    "resolution": 0.9779240326997695,
    "scale": 1126.570738811612
   },
   {
    "level": 19,
    "resolution": 0.48896201634988473,
    "scale": 563.285369405806
   },
   {
    "level": 20,
    "resolution": 0.24448100817494237,
    "scale": 281.642684702903
   },
   {
    "level": 21,
    "resolution": 0.12224050408747118,
    "scale": 140.8213423514515
   },
   {
    "level": 22,
    "resolution": 0.06112025204373559,
    "scale": 70.41067117572575
   },
   {
    "level": 23,
    "resolution": 0.030560126021867796,
    "scale": 35.205335587862876
   }
  ]
 },
 "storageInfo": {
  "storageFormat": "esriMapCacheStorageModeCompactV2",
  "packetSize": 128
 },
 "cacheType": "Elevation",
 "allowRasterFunction": true,
 "rasterFunctionInfos": [
  {
   "name": "None",
   "description": "",
   "help": ""
  }
 ],
 "rasterTypeInfos": [
  {
   "name": "Raster Dataset",
   "description": "Supports all ArcGIS Raster Datasets",
   "help": ""
  }
 ],
 "mensurationCapabilities": "Basic",
 "hasHistograms": true,
 "hasColormap": false,
 "hasRasterAttributeTable": false,
 "minScale": 2.953237597550312E8,
 "maxScale": 563.285369405806,
 "minLOD": 0,
 "maxLOD": 19,
 "exportTilesAllowed": false,
 "supportsStatistics": false,
 "supportsAdvancedQueries": false,
 "editFieldsInfo": null,
 "ownershipBasedAccessControlForRasters": null,
 "allowComputeTiePoints": false,
 "useStandardizedQueries": true,
 "advancedQueryCapabilities": {
  "useStandardizedQueries": true,
  "supportsStatistics": false,
  "supportsOrderBy": false,
  "supportsDistinct": false,
  "supportsPagination": false
 },
 "spatialReference": {
  "wkid": 2244,
  "latestWkid": 2965
 }
}
