View In:
ArcGIS JavaScript
ArcGIS Online Map Viewer
ArcGIS Earth
Service Description: Scene10_WEL
Name: Scene10_WEL
Description:
Single Fused Map Cache: true
Tile Info:
- Height: 256
- Width: 256
- DPI: 96
-
Levels of Detail: 24
-
Level ID: 0
[ Start Tile, End Tile ]
- Resolution: 256356.91762804837
- Scale: 2.953237597550312E8
-
Level ID: 1
[ Start Tile, End Tile ]
- Resolution: 128178.45881402418
- Scale: 1.476618798775156E8
-
Level ID: 2
[ Start Tile, End Tile ]
- Resolution: 64089.22940701209
- Scale: 7.38309399387578E7
-
Level ID: 3
[ Start Tile, End Tile ]
- Resolution: 32044.614703506046
- Scale: 3.69154699693789E7
-
Level ID: 4
[ Start Tile, End Tile ]
- Resolution: 16022.307351753023
- Scale: 1.845773498468945E7
-
Level ID: 5
[ Start Tile, End Tile ]
- Resolution: 8011.153675876511
- Scale: 9228867.492344726
-
Level ID: 6
[ Start Tile, End Tile ]
- Resolution: 4005.5768379382557
- Scale: 4614433.746172363
-
Level ID: 7
[ Start Tile, End Tile ]
- Resolution: 2002.7884189691279
- Scale: 2307216.8730861815
-
Level ID: 8
[ Start Tile, End Tile ]
- Resolution: 1001.3942094845639
- Scale: 1153608.4365430907
-
Level ID: 9
[ Start Tile, End Tile ]
- Resolution: 500.69710474228197
- Scale: 576804.2182715454
-
Level ID: 10
[ Start Tile, End Tile ]
- Resolution: 250.34855237114098
- Scale: 288402.1091357727
-
Level ID: 11
[ Start Tile, End Tile ]
- Resolution: 125.17427618557049
- Scale: 144201.05456788634
-
Level ID: 12
[ Start Tile, End Tile ]
- Resolution: 62.587138092785246
- Scale: 72100.52728394317
-
Level ID: 13
[ Start Tile, End Tile ]
- Resolution: 31.293569046392623
- Scale: 36050.263641971585
-
Level ID: 14
[ Start Tile, End Tile ]
- Resolution: 15.646784523196311
- Scale: 18025.131820985793
-
Level ID: 15
[ Start Tile, End Tile ]
- Resolution: 7.823392261598156
- Scale: 9012.565910492896
-
Level ID: 16
[ Start Tile, End Tile ]
- Resolution: 3.911696130799078
- Scale: 4506.282955246448
-
Level ID: 17
[ Start Tile, End Tile ]
- Resolution: 1.955848065399539
- Scale: 2253.141477623224
-
Level ID: 18
[ Start Tile, End Tile ]
- Resolution: 0.9779240326997695
- Scale: 1126.570738811612
-
Level ID: 19
[ Start Tile, End Tile ]
- Resolution: 0.48896201634988473
- Scale: 563.285369405806
-
Level ID: 20
[ Start Tile, End Tile ]
- Resolution: 0.24448100817494237
- Scale: 281.642684702903
-
Level ID: 21
[ Start Tile, End Tile ]
- Resolution: 0.12224050408747118
- Scale: 140.8213423514515
-
Level ID: 22
[ Start Tile, End Tile ]
- Resolution: 0.06112025204373559
- Scale: 70.41067117572575
-
Level ID: 23
[ Start Tile, End Tile ]
- Resolution: 0.030560126021867796
- Scale: 35.205335587862876
- Format: LERC
- Compression Quality: 0.0
- LERC Error: 0.05
- Origin: X: -3.248560212305686E7
Y: 2.0012320828010373E7
- Spatial Reference: 2244
(2965)
VCSWkid(105703)
LatestVCSWkid(6360)
Storage Info:
- Storage Format: esriMapCacheStorageModeCompactV2
- Packet Size: 128
Extent:
XMin: 212098.88098810238
YMin: 1707589.9030858683
XMax: 215672.88098810238
YMax: 1710129.9030858683
Spatial Reference: 2244
(2965)
LatestVCSWkid(0)
Initial Extent:
XMin: 212098.88098810238
YMin: 1707589.9030858683
XMax: 215672.88098810238
YMax: 1710129.9030858683
Spatial Reference: 2244
(2965)
LatestVCSWkid(0)
Full Extent:
XMin: 212098.88098810238
YMin: 1707589.9030858683
XMax: 215672.88098810238
YMax: 1710129.9030858683
Spatial Reference: 2244
(2965)
LatestVCSWkid(0)
Pixel Size X: 2.0
Pixel Size Y: 2.0
Band Count: 1
Pixel Type: F32
RasterFunction Infos: {"rasterFunctionInfos": [{
"name": "None",
"description": "",
"help": ""
}]}
Mensuration Capabilities: Basic
Inspection Capabilities:
Has Histograms: true
Has Colormap: false
Has Multi Dimensions : false
Rendering Rule:
Min Scale: 2.953237597550312E8
Max Scale: 281.642684702903
Min LOD: 0
Max LOD: 20
Copyright Text:
Service Data Type: esriImageServiceDataTypeGeneric
Min Values: 687.0031127929688
Max Values: 769.8558959960938
Mean Values: 730.0668577814398
Standard Deviation Values: 14.775418720069064
Object ID Field:
Fields:
None
Default Mosaic Method: Center
Allowed Mosaic Methods:
SortField:
SortValue: null
Mosaic Operator: First
Default Compression Quality: 75
Default Resampling Method: Bilinear
Max Record Count: null
Max Image Height: 4100
Max Image Width: 15000
Max Download Image Count: null
Max Mosaic Image Count: null
Allow Raster Function: true
Allow Copy: true
Allow Analysis: true
Allow Compute TiePoints: false
Supports Statistics: false
Supports Advanced Queries: false
Use StandardizedQueries: true
Raster Type Infos:
Name: Raster Dataset
Description: Supports all ArcGIS Raster Datasets
Help:
Has Raster Attribute Table: false
Edit Fields Info: null
Ownership Based AccessControl For Rasters: null
Child Resources:
Info
Histograms
Statistics
Key Properties
Legend
Raster Function Infos
Supported Operations:
Export Image
Identify
Measure
Compute Histograms
Compute Statistics Histograms
Get Samples
Compute Class Statistics
Query Boundary
Compute Pixel Location
Compute Angles
Validate
Project